BEGIN:VCALENDAR
VERSION:2.0
PRODID:-//Kino Tuškanac//Filmski programi//HR
BEGIN:VEVENT
UID:b2984924b8614c6daba38e1e9f6599cd@kinotuskanac.hr
DTSTAMP:20260420T052400Z
DTSTART:20150202T210000
DTEND:20150202T230000
SUMMARY:Palme
LOCATION:Kino Tuškanac
DESCRIPTION:2012. R: Kristina Lindström, Maud Nycander
END:VEVENT
END:VCALENDAR