BEGIN:VCALENDAR
VERSION:2.0
PRODID:-//Kino Tuškanac//Filmski programi//HR
BEGIN:VEVENT
UID:ee7cc4268eac16b6425bafd1a3ac270a@kinotuskanac.hr
DTSTAMP:20260421T075420Z
DTSTART:20150205T210000
DTEND:20150205T230000
SUMMARY:Capote
LOCATION:Kino Tuškanac
DESCRIPTION:SAD-Kanada, 2005 R: Bennett Miller
END:VEVENT
END:VCALENDAR