BEGIN:VCALENDAR
VERSION:2.0
PRODID:-//Kino Tuškanac//Filmski programi//HR
BEGIN:VEVENT
UID:a433df3afbdbe4bc7e149b2bad55b565@kinotuskanac.hr
DTSTAMP:20260421T075227Z
DTSTART:20150206T190000
DTEND:20150206T210000
SUMMARY:Capote
LOCATION:Kino Tuškanac
DESCRIPTION:SAD-Kanada, 2005 R: Bennett Miller
END:VEVENT
END:VCALENDAR