BEGIN:VCALENDAR
VERSION:2.0
PRODID:-//Kino Tuškanac//Filmski programi//HR
BEGIN:VEVENT
UID:fc3e37edf3c344aa046b9eae6510d89d@kinotuskanac.hr
DTSTAMP:20260421T092812Z
DTSTART:20150207T210000
DTEND:20150207T230000
SUMMARY:Zaposlena djevojka
LOCATION:Kino Tuškanac
DESCRIPTION:Working Girl, 1988. R: Mike Nichols
END:VEVENT
END:VCALENDAR