BEGIN:VCALENDAR
VERSION:2.0
PRODID:-//Kino Tuškanac//Filmski programi//HR
BEGIN:VEVENT
UID:46d90f599a3cf8c0da7f5ed3577b4c57@kinotuskanac.hr
DTSTAMP:20260421T092858Z
DTSTART:20150209T190000
DTEND:20150209T210000
SUMMARY:Zaposlena djevojka
LOCATION:Kino Tuškanac
DESCRIPTION:Working Girl, 1988. R: Mike Nichols
END:VEVENT
END:VCALENDAR