BEGIN:VCALENDAR
VERSION:2.0
PRODID:-//Kino Tuškanac//Filmski programi//HR
BEGIN:VEVENT
UID:bc7c3206b2aa94be615fa11e9b4bebea@kinotuskanac.hr
DTSTAMP:20260420T230651Z
DTSTART:20040417T190000
DTEND:20040417T210000
SUMMARY:Gepard
LOCATION:Kino Tuškanac
DESCRIPTION:Il gattopardo, Italija, Francuska, 1963 R: Luchino Visconti
END:VEVENT
END:VCALENDAR