BEGIN:VCALENDAR
VERSION:2.0
PRODID:-//Kino Tuškanac//Filmski programi//HR
BEGIN:VEVENT
UID:f017c7484e13a4c81e629168a9a55389@kinotuskanac.hr
DTSTAMP:20260422T082424Z
DTSTART:20150216T190000
DTEND:20150216T210000
SUMMARY:Patch Adams
LOCATION:Kino Tuškanac
DESCRIPTION:1998. R: Tom Shadyac
END:VEVENT
END:VCALENDAR