BEGIN:VCALENDAR
VERSION:2.0
PRODID:-//Kino Tuškanac//Filmski programi//HR
BEGIN:VEVENT
UID:30941141ab6e3267a3a3ebb1c09bc9cc@kinotuskanac.hr
DTSTAMP:20260422T234829Z
DTSTART:20150217T210000
DTEND:20150217T230000
SUMMARY:Nesanica
LOCATION:Kino Tuškanac
DESCRIPTION:Insomnia, SAD, 2002 R: Christopher Nolan
END:VEVENT
END:VCALENDAR