BEGIN:VCALENDAR
VERSION:2.0
PRODID:-//Kino Tuškanac//Filmski programi//HR
BEGIN:VEVENT
UID:60a64e538c64ae9f4acd59d769a10e3a@kinotuskanac.hr
DTSTAMP:20260421T035116Z
DTSTART:20150218T190000
DTEND:20150218T210000
SUMMARY:Gospođa Henderson vam predstavlja
LOCATION:Kino Tuškanac
DESCRIPTION:Mrs. Henderson Presents, 2005. R: Stephen Frears
END:VEVENT
END:VCALENDAR