BEGIN:VCALENDAR
VERSION:2.0
PRODID:-//Kino Tuškanac//Filmski programi//HR
BEGIN:VEVENT
UID:bb45a469046885d67a6ba9d16f9aaffe@kinotuskanac.hr
DTSTAMP:20260421T035157Z
DTSTART:20150219T210000
DTEND:20150219T230000
SUMMARY:Gospođa Henderson vam predstavlja
LOCATION:Kino Tuškanac
DESCRIPTION:Mrs. Henderson Presents, 2005. R: Stephen Frears
END:VEVENT
END:VCALENDAR