BEGIN:VCALENDAR
VERSION:2.0
PRODID:-//Kino Tuškanac//Filmski programi//HR
BEGIN:VEVENT
UID:c626a46d9a72702b9d6c5556c4871f28@kinotuskanac.hr
DTSTAMP:20260424T212528Z
DTSTART:20150224T190000
DTEND:20150224T210000
SUMMARY:Slijedeća stanica: Greenwich Village
LOCATION:Kino Tuškanac
DESCRIPTION:Next Stop Greenwich Village, 1975. R: Paul Mazursky
END:VEVENT
END:VCALENDAR