BEGIN:VCALENDAR
VERSION:2.0
PRODID:-//Kino Tuškanac//Filmski programi//HR
BEGIN:VEVENT
UID:7558bda096f6d317cf53f484d02ec43b@kinotuskanac.hr
DTSTAMP:20260424T170420Z
DTSTART:20150224T210000
DTEND:20150224T230000
SUMMARY:Čovjek i mačak
LOCATION:Kino Tuškanac
DESCRIPTION:Harry And Tonto, 1974. R: Paul Mazursky
END:VEVENT
END:VCALENDAR