BEGIN:VCALENDAR
VERSION:2.0
PRODID:-//Kino Tuškanac//Filmski programi//HR
BEGIN:VEVENT
UID:5c6e729f1aa42b3604793f4bf9ca8c5c@kinotuskanac.hr
DTSTAMP:20260425T005040Z
DTSTART:20150225T190000
DTEND:20150225T210000
SUMMARY:Kako ukrasti milion dolara
LOCATION:Kino Tuškanac
DESCRIPTION:How To Steal A Million, 1966. R: William Wyler
END:VEVENT
END:VCALENDAR