BEGIN:VCALENDAR
VERSION:2.0
PRODID:-//Kino Tuškanac//Filmski programi//HR
BEGIN:VEVENT
UID:0f769493ac1a0c3cb1782c9e6b5f1f53@kinotuskanac.hr
DTSTAMP:20260425T005155Z
DTSTART:20150226T210000
DTEND:20150226T230000
SUMMARY:Kako ukrasti milion dolara
LOCATION:Kino Tuškanac
DESCRIPTION:How To Steal A Million, 1966. R: William Wyler
END:VEVENT
END:VCALENDAR