BEGIN:VCALENDAR
VERSION:2.0
PRODID:-//Kino Tuškanac//Filmski programi//HR
BEGIN:VEVENT
UID:dda80733e840333f44008e042938e3ba@kinotuskanac.hr
DTSTAMP:20260420T115103Z
DTSTART:20150313T190000
DTEND:20150313T210000
SUMMARY:Tango libre
LOCATION:Kino Tuškanac
DESCRIPTION:Belgija, 2012 R: Frédéric Fonteyne
END:VEVENT
END:VCALENDAR