BEGIN:VCALENDAR
VERSION:2.0
PRODID:-//Kino Tuškanac//Filmski programi//HR
BEGIN:VEVENT
UID:e232e102c33fb8e3a62c2e2fa991d39a@kinotuskanac.hr
DTSTAMP:20260424T153435Z
DTSTART:20150409T210000
DTEND:20150409T230000
SUMMARY:Izazov
LOCATION:Kino Tuškanac
DESCRIPTION:La sfida, 1957. R: Francesco Rosi
END:VEVENT
END:VCALENDAR