BEGIN:VCALENDAR
VERSION:2.0
PRODID:-//Kino Tuškanac//Filmski programi//HR
BEGIN:VEVENT
UID:78cedc500533ca34f1b57b326b00d93e@kinotuskanac.hr
DTSTAMP:20260421T171602Z
DTSTART:20150427T190000
DTEND:20150427T210000
SUMMARY:Izuzetni leševi
LOCATION:Kino Tuškanac
DESCRIPTION:Cadaveri eccellenti, 1975. R: Francesco Rosi
END:VEVENT
END:VCALENDAR