BEGIN:VCALENDAR
VERSION:2.0
PRODID:-//Kino Tuškanac//Filmski programi//HR
BEGIN:VEVENT
UID:e5e36b54e838ca6ab344c66720e84dfb@kinotuskanac.hr
DTSTAMP:20260421T171603Z
DTSTART:20150429T210000
DTEND:20150429T230000
SUMMARY:Izuzetni leševi
LOCATION:Kino Tuškanac
DESCRIPTION:Cadaveri eccellenti, 1975. R: Francesco Rosi
END:VEVENT
END:VCALENDAR