BEGIN:VCALENDAR
VERSION:2.0
PRODID:-//Kino Tuškanac//Filmski programi//HR
BEGIN:VEVENT
UID:13dce0e15a4586a62727af9328a3b469@kinotuskanac.hr
DTSTAMP:20260421T172404Z
DTSTART:20150430T210000
DTEND:20150430T230000
SUMMARY:Slučaj Mattei
LOCATION:Kino Tuškanac
DESCRIPTION:Il caso Mattei, 1971. R: Francesco Rosi
END:VEVENT
END:VCALENDAR