BEGIN:VCALENDAR
VERSION:2.0
PRODID:-//Kino Tuškanac//Filmski programi//HR
BEGIN:VEVENT
UID:778a88cc63b65f41fd9a534db4026b23@kinotuskanac.hr
DTSTAMP:20260419T224850Z
DTSTART:20150515T190000
DTEND:20150515T210000
SUMMARY:Sam
LOCATION:Kino Tuškanac
DESCRIPTION:1959. R: Vladimir Pogačić
END:VEVENT
END:VCALENDAR