BEGIN:VCALENDAR
VERSION:2.0
PRODID:-//Kino Tuškanac//Filmski programi//HR
BEGIN:VEVENT
UID:0942391663521feea1d89bd81071194f@kinotuskanac.hr
DTSTAMP:20260421T230510Z
DTSTART:20150515T210000
DTEND:20150515T230000
SUMMARY:Davitelj protiv Davitelja
LOCATION:Kino Tuškanac
DESCRIPTION:Jugoslavija, 1984 R: Slobodan Šijan
END:VEVENT
END:VCALENDAR