BEGIN:VCALENDAR
VERSION:2.0
PRODID:-//Kino Tuškanac//Filmski programi//HR
BEGIN:VEVENT
UID:b6ce5e77aac4b392b1ad5fd26879f413@kinotuskanac.hr
DTSTAMP:20260421T230851Z
DTSTART:20150518T190000
DTEND:20150518T210000
SUMMARY:Davitelj protiv Davitelja
LOCATION:Kino Tuškanac
DESCRIPTION:Jugoslavija, 1984 R: Slobodan Šijan
END:VEVENT
END:VCALENDAR