BEGIN:VCALENDAR
VERSION:2.0
PRODID:-//Kino Tuškanac//Filmski programi//HR
BEGIN:VEVENT
UID:511badcc6a28fb774b7d40003999bff2@kinotuskanac.hr
DTSTAMP:20260419T224852Z
DTSTART:20150518T210000
DTEND:20150518T230000
SUMMARY:Sam
LOCATION:Kino Tuškanac
DESCRIPTION:1959. R: Vladimir Pogačić
END:VEVENT
END:VCALENDAR