BEGIN:VCALENDAR
VERSION:2.0
PRODID:-//Kino Tuškanac//Filmski programi//HR
BEGIN:VEVENT
UID:49b5629d586e751ba29f319cd206c95f@kinotuskanac.hr
DTSTAMP:20260425T203044Z
DTSTART:20150603T190000
DTEND:20150603T210000
SUMMARY:Naivne djevojke
LOCATION:Kino Tuškanac
DESCRIPTION:Les bonnes femmes, 1960. R: Claude Chabrol
END:VEVENT
END:VCALENDAR