BEGIN:VCALENDAR
VERSION:2.0
PRODID:-//Kino Tuškanac//Filmski programi//HR
BEGIN:VEVENT
UID:b9731ec5eb31b132f5ef9a2f64d6feed@kinotuskanac.hr
DTSTAMP:20260425T203038Z
DTSTART:20150605T210000
DTEND:20150605T230000
SUMMARY:Naivne djevojke
LOCATION:Kino Tuškanac
DESCRIPTION:Les bonnes femmes, 1960. R: Claude Chabrol
END:VEVENT
END:VCALENDAR