BEGIN:VCALENDAR
VERSION:2.0
PRODID:-//Kino Tuškanac//Filmski programi//HR
BEGIN:VEVENT
UID:6e417798df04894ebb8a304a4db52f62@kinotuskanac.hr
DTSTAMP:20260419T224733Z
DTSTART:20150617T190000
DTEND:20150617T210000
SUMMARY:Pakao
LOCATION:Kino Tuškanac
DESCRIPTION:L' enfer, 1994. R: Claude Chabrol
END:VEVENT
END:VCALENDAR