BEGIN:VCALENDAR
VERSION:2.0
PRODID:-//Kino Tuškanac//Filmski programi//HR
BEGIN:VEVENT
UID:0a1c16f9962f473b7013e46536c4091d@kinotuskanac.hr
DTSTAMP:20260422T141222Z
DTSTART:20020511T150000
DTEND:20020511T170000
SUMMARY:Rupadhvani Dwitaya
LOCATION:Kino Tuškanac
DESCRIPTION: R: Suraj Purohit
END:VEVENT
END:VCALENDAR