BEGIN:VCALENDAR
VERSION:2.0
PRODID:-//Kino Tuškanac//Filmski programi//HR
BEGIN:VEVENT
UID:22cf4463457b82838996b8aee80124ba@kinotuskanac.hr
DTSTAMP:20260419T185925Z
DTSTART:20150525T210000
DTEND:20150525T230000
SUMMARY:Holding
LOCATION:Kino Tuškanac
DESCRIPTION:Hrvatska, 2001 R: Tomislav Radić
END:VEVENT
END:VCALENDAR