BEGIN:VCALENDAR
VERSION:2.0
PRODID:-//Kino Tuškanac//Filmski programi//HR
BEGIN:VEVENT
UID:4a10c2f89b091645e158ba7062fbb6cc@kinotuskanac.hr
DTSTAMP:20260419T185850Z
DTSTART:20150526T190000
DTEND:20150526T210000
SUMMARY:Anđele moj dragi
LOCATION:Kino Tuškanac
DESCRIPTION:Hrvatska, 1995 R: Tomislav Radić
END:VEVENT
END:VCALENDAR