BEGIN:VCALENDAR
VERSION:2.0
PRODID:-//Kino Tuškanac//Filmski programi//HR
BEGIN:VEVENT
UID:69a76992ce114abcd51446d5f29d4734@kinotuskanac.hr
DTSTAMP:20260423T143852Z
DTSTART:20150629T190000
DTEND:20150629T210000
SUMMARY:Mamin dečkić
LOCATION:Kino Tuškanac
DESCRIPTION:Les garçons et Guillaume, à table, Francuska, 2013 R: Guillaume Gallienne
END:VEVENT
END:VCALENDAR