BEGIN:VCALENDAR
VERSION:2.0
PRODID:-//Kino Tuškanac//Filmski programi//HR
BEGIN:VEVENT
UID:07f4e6df786e4da98927a51f998420d3@kinotuskanac.hr
DTSTAMP:20260423T143950Z
DTSTART:20150701T210000
DTEND:20150701T230000
SUMMARY:Mamin dečkić
LOCATION:Kino Tuškanac
DESCRIPTION:Les garçons et Guillaume, à table, Francuska, 2013 R: Guillaume Gallienne
END:VEVENT
END:VCALENDAR