BEGIN:VCALENDAR
VERSION:2.0
PRODID:-//Kino Tuškanac//Filmski programi//HR
BEGIN:VEVENT
UID:3834acbbb361aff63f9f54e9fecae62c@kinotuskanac.hr
DTSTAMP:20260423T175526Z
DTSTART:20150701T190000
DTEND:20150701T210000
SUMMARY:Francuskinje
LOCATION:Kino Tuškanac
DESCRIPTION:Sous les jupes des filles, Francuska, 2014 R: Audrey Dana
END:VEVENT
END:VCALENDAR