BEGIN:VCALENDAR
VERSION:2.0
PRODID:-//Kino Tuškanac//Filmski programi//HR
BEGIN:VEVENT
UID:8e993be3b0b7a9f7824614abd371c03e@kinotuskanac.hr
DTSTAMP:20260423T160923Z
DTSTART:20150928T190000
DTEND:20150928T210000
SUMMARY:Priča iz Osake
LOCATION:Kino Tuškanac
DESCRIPTION:Ôsaka monogatari, 1999. R: Jun Ichikawa
END:VEVENT
END:VCALENDAR