BEGIN:VCALENDAR
VERSION:2.0
PRODID:-//Kino Tuškanac//Filmski programi//HR
BEGIN:VEVENT
UID:a9c83659b61c0b5beacf55ab8867be22@kinotuskanac.hr
DTSTAMP:20260425T131458Z
DTSTART:20151003T190000
DTEND:20151003T210000
SUMMARY:Komaneko: znatiželjna maca
LOCATION:Kino Tuškanac
DESCRIPTION:Komaneko: The Curious Cat, 2006. R: Tsuneo Goda
END:VEVENT
END:VCALENDAR