BEGIN:VCALENDAR
VERSION:2.0
PRODID:-//Kino Tuškanac//Filmski programi//HR
BEGIN:VEVENT
UID:179568e91635fa081222eb2e9a664784@kinotuskanac.hr
DTSTAMP:20260423T160924Z
DTSTART:20151003T200000
DTEND:20151003T220000
SUMMARY:Priča iz Osake
LOCATION:Kino Tuškanac
DESCRIPTION:Ôsaka monogatari, 1999. R: Jun Ichikawa
END:VEVENT
END:VCALENDAR