BEGIN:VCALENDAR
VERSION:2.0
PRODID:-//Kino Tuškanac//Filmski programi//HR
BEGIN:VEVENT
UID:9b4eda310735d69ae26d489776979307@kinotuskanac.hr
DTSTAMP:20260420T130609Z
DTSTART:20151006T210000
DTEND:20151006T230000
SUMMARY:Svijet dizalica
LOCATION:Kino Tuškanac
DESCRIPTION:Mondo Grua, 1999. R: Pablo Trapero
END:VEVENT
END:VCALENDAR