BEGIN:VCALENDAR
VERSION:2.0
PRODID:-//Kino Tuškanac//Filmski programi//HR
BEGIN:VEVENT
UID:e5e39bf40e9a5f00573d929f340585c0@kinotuskanac.hr
DTSTAMP:20260420T130507Z
DTSTART:20151007T190000
DTEND:20151007T210000
SUMMARY:Svijet dizalica
LOCATION:Kino Tuškanac
DESCRIPTION:Mondo Grua, 1999. R: Pablo Trapero
END:VEVENT
END:VCALENDAR