BEGIN:VCALENDAR
VERSION:2.0
PRODID:-//Kino Tuškanac//Filmski programi//HR
BEGIN:VEVENT
UID:fa31df4eac460c99323c363a7a3188e7@kinotuskanac.hr
DTSTAMP:20260420T130456Z
DTSTART:20151008T190000
DTEND:20151008T210000
SUMMARY:Bijeli slon
LOCATION:Kino Tuškanac
DESCRIPTION:Elefante blanco, 2012. R: Pablo Trapero
END:VEVENT
END:VCALENDAR