BEGIN:VCALENDAR
VERSION:2.0
PRODID:-//Kino Tuškanac//Filmski programi//HR
BEGIN:VEVENT
UID:00e574b596feb28898d656dc987c0a41@kinotuskanac.hr
DTSTAMP:20260420T130609Z
DTSTART:20151009T190000
DTEND:20151009T210000
SUMMARY:Carancho
LOCATION:Kino Tuškanac
DESCRIPTION:Argentina, 2010 R: Pablo Trapero
END:VEVENT
END:VCALENDAR