BEGIN:VCALENDAR
VERSION:2.0
PRODID:-//Kino Tuškanac//Filmski programi//HR
BEGIN:VEVENT
UID:aadaa08d2e4334b2a7f2def3764e3f04@kinotuskanac.hr
DTSTAMP:20260420T130457Z
DTSTART:20151010T190000
DTEND:20151010T210000
SUMMARY:Bijeli slon
LOCATION:Kino Tuškanac
DESCRIPTION:Elefante blanco, 2012. R: Pablo Trapero
END:VEVENT
END:VCALENDAR