BEGIN:VCALENDAR
VERSION:2.0
PRODID:-//Kino Tuškanac//Filmski programi//HR
BEGIN:VEVENT
UID:3277faa57cc6d162adfd2b737dae81ad@kinotuskanac.hr
DTSTAMP:20260419T185711Z
DTSTART:20151104T190000
DTEND:20151104T210000
SUMMARY:Čudnovati Angelikin slučaj
LOCATION:Kino Tuškanac
DESCRIPTION:O Estranho caso de Angélica, Portugal, 2010 R: Manoel de Oliveira
END:VEVENT
END:VCALENDAR