BEGIN:VCALENDAR
VERSION:2.0
PRODID:-//Kino Tuškanac//Filmski programi//HR
BEGIN:VEVENT
UID:42dc2c48c4818e8f4c1d6498c156b5f2@kinotuskanac.hr
DTSTAMP:20260419T200654Z
DTSTART:20151105T210000
DTEND:20151105T230000
SUMMARY:Čudnovati Angelikin slučaj
LOCATION:Kino Tuškanac
DESCRIPTION:O Estranho caso de Angélica, Portugal, 2010 R: Manoel de Oliveira
END:VEVENT
END:VCALENDAR