BEGIN:VCALENDAR
VERSION:2.0
PRODID:-//Kino Tuškanac//Filmski programi//HR
BEGIN:VEVENT
UID:e08631a65fdecda4c1662426654df57b@kinotuskanac.hr
DTSTAMP:20260420T230403Z
DTSTART:20040421T220000
DTEND:20040422T000000
SUMMARY:Gepard
LOCATION:Kino Tuškanac
DESCRIPTION:Il gattopardo, Italija, Francuska, 1963 R: Luchino Visconti
END:VEVENT
END:VCALENDAR