BEGIN:VCALENDAR
VERSION:2.0
PRODID:-//Kino Tuškanac//Filmski programi//HR
BEGIN:VEVENT
UID:f6f2a6a3594684670566e2aefdf820eb@kinotuskanac.hr
DTSTAMP:20260423T111539Z
DTSTART:20151113T190000
DTEND:20151113T210000
SUMMARY:Sljepoća
LOCATION:Kino Tuškanac
DESCRIPTION:Blindness, Brazil, 2008 R: Fernando Meirelles
END:VEVENT
END:VCALENDAR