BEGIN:VCALENDAR
VERSION:2.0
PRODID:-//Kino Tuškanac//Filmski programi//HR
BEGIN:VEVENT
UID:56e716c0fc67056f97b7ae14534cb076@kinotuskanac.hr
DTSTAMP:20260423T111429Z
DTSTART:20151114T210000
DTEND:20151114T230000
SUMMARY:Sljepoća
LOCATION:Kino Tuškanac
DESCRIPTION:Blindness, Brazil, 2008 R: Fernando Meirelles
END:VEVENT
END:VCALENDAR