BEGIN:VCALENDAR
VERSION:2.0
PRODID:-//Kino Tuškanac//Filmski programi//HR
BEGIN:VEVENT
UID:696df3c97cfa9d17fcf60e4baaa44c76@kinotuskanac.hr
DTSTAMP:20260420T195437Z
DTSTART:20151210T210000
DTEND:20151210T230000
SUMMARY:Arktik
LOCATION:Kino Tuškanac
DESCRIPTION:Artico, 2014. R: Gabriel Velázquez
END:VEVENT
END:VCALENDAR