BEGIN:VCALENDAR
VERSION:2.0
PRODID:-//Kino Tuškanac//Filmski programi//HR
BEGIN:VEVENT
UID:098bf9df86235bff044cf52c2b968cd3@kinotuskanac.hr
DTSTAMP:20260423T074515Z
DTSTART:20040429T214500
DTEND:20040429T234500
SUMMARY:Rocco i njegova braća
LOCATION:Kino Tuškanac
DESCRIPTION:Rocco e i suoi fratelli, Italija, Francuska, 1960 | Mjesto prikazivanja filma: Centar za kulturu Histrionski dom (Ilica 90) R: Luchino Visconti
END:VEVENT
END:VCALENDAR