BEGIN:VCALENDAR
VERSION:2.0
PRODID:-//Kino Tuškanac//Filmski programi//HR
BEGIN:VEVENT
UID:81c2279c6835ec13106eb33e9e964c41@kinotuskanac.hr
DTSTAMP:20260423T144642Z
DTSTART:20040324T190000
DTEND:20040324T210000
SUMMARY:Tajne i laži
LOCATION:Kino Tuškanac
DESCRIPTION:Secrets & Lies, 1996 R: Mike Leigh
END:VEVENT
END:VCALENDAR