BEGIN:VCALENDAR
VERSION:2.0
PRODID:-//Kino Tuškanac//Filmski programi//HR
BEGIN:VEVENT
UID:3663a997c271dc061b57f361f78dc0fc@kinotuskanac.hr
DTSTAMP:20260423T045134Z
DTSTART:20151231T213000
DTEND:20151231T233000
SUMMARY:Pačja juha
LOCATION:Kino Tuškanac
DESCRIPTION:Duck Soup, 1933. R: Leo McCarey
END:VEVENT
END:VCALENDAR