BEGIN:VCALENDAR
VERSION:2.0
PRODID:-//Kino Tuškanac//Filmski programi//HR
BEGIN:VEVENT
UID:afc8c981963034523c3f4fbeb5fb6f98@kinotuskanac.hr
DTSTAMP:20260420T144333Z
DTSTART:20151214T190000
DTEND:20151214T210000
SUMMARY:Pisma svetom Nikoli
LOCATION:Kino Tuškanac
DESCRIPTION:Listy do M., Poljska, 2011 R: Mitja Okorn
END:VEVENT
END:VCALENDAR